BEGIN:VCALENDAR
VERSION:2.0
PRODID:-//pretalx//pretalx.wikimedia.de//8SDRW7
BEGIN:VTIMEZONE
TZID:CET
BEGIN:STANDARD
DTSTART:20001029T040000
RRULE:FREQ=YEARLY;BYDAY=-1SU;BYMONTH=10
TZNAME:CET
TZOFFSETFROM:+0200
TZOFFSETTO:+0100
END:STANDARD
BEGIN:DAYLIGHT
DTSTART:20000326T030000
RRULE:FREQ=YEARLY;BYDAY=-1SU;BYMONTH=3
TZNAME:CEST
TZOFFSETFROM:+0100
TZOFFSETTO:+0200
END:DAYLIGHT
END:VTIMEZONE
BEGIN:VEVENT
UID:pretalx-health-day-2025-8SDRW7@pretalx.wikimedia.de
DTSTART;TZID=CET:20251110T090000
DTEND;TZID=CET:20251110T100000
DESCRIPTION:Come join us in the kitchen on the 1rst floor for a small break
 fast
DTSTAMP:20260420T200051Z
LOCATION:Küche 1st floor
SUMMARY:Frühstück / Breakfast - 
URL:https://pretalx.wikimedia.de/health-day-2025/talk/8SDRW7/
END:VEVENT
END:VCALENDAR
